BEGIN:VCALENDAR
VERSION:2.0
PRODID:-//Stefan Brattfeldt - ECPv4.4.5//NONSGML v1.0//EN
CALSCALE:GREGORIAN
METHOD:PUBLISH
X-WR-CALNAME:Stefan Brattfeldt
X-ORIGINAL-URL:https://brattfeldt.se
X-WR-CALDESC:Events for Stefan Brattfeldt
BEGIN:VEVENT
DTSTART;VALUE=DATE:20200826
DTEND;VALUE=DATE:20200828
DTSTAMP:20260426T041136
CREATED:20200827T085808Z
LAST-MODIFIED:20200827T085808Z
UID:1633-1598400000-1598659199@brattfeldt.se
SUMMARY:Traumabehandling Härnösand
DESCRIPTION:
URL:https://brattfeldt.se/uppdrag/traumabehandling-harnosand-41/
END:VEVENT
END:VCALENDAR