BEGIN:VCALENDAR
VERSION:2.0
PRODID:-//Stefan Brattfeldt - ECPv4.4.5//NONSGML v1.0//EN
CALSCALE:GREGORIAN
METHOD:PUBLISH
X-WR-CALNAME:Stefan Brattfeldt
X-ORIGINAL-URL:https://brattfeldt.se
X-WR-CALDESC:Events for Stefan Brattfeldt
BEGIN:VEVENT
DTSTART;VALUE=DATE:20200821
DTEND;VALUE=DATE:20200821
DTSTAMP:20260426T041131
CREATED:20200709T083617Z
LAST-MODIFIED:20200709T083617Z
UID:1609-1597968000-1598054399@brattfeldt.se
SUMMARY:Traumabehandling Härnösand
DESCRIPTION:
URL:https://brattfeldt.se/uppdrag/traumabehandling-harnosand-40/
END:VEVENT
END:VCALENDAR