BEGIN:VCALENDAR
VERSION:2.0
PRODID:-//Stefan Brattfeldt - ECPv4.4.5//NONSGML v1.0//EN
CALSCALE:GREGORIAN
METHOD:PUBLISH
X-WR-CALNAME:Stefan Brattfeldt
X-ORIGINAL-URL:https://brattfeldt.se
X-WR-CALDESC:Events for Stefan Brattfeldt
BEGIN:VEVENT
DTSTART;VALUE=DATE:20210121
DTEND;VALUE=DATE:20210121
DTSTAMP:20260426T024145
CREATED:20210118T191251Z
LAST-MODIFIED:20210118T191251Z
UID:1652-1611187200-1611273599@brattfeldt.se
SUMMARY:Samtal Härnösand
DESCRIPTION:
URL:https://brattfeldt.se/uppdrag/samtal-harnosand-8/
END:VEVENT
END:VCALENDAR