BEGIN:VCALENDAR
VERSION:2.0
PRODID:-//Stefan Brattfeldt - ECPv4.4.5//NONSGML v1.0//EN
CALSCALE:GREGORIAN
METHOD:PUBLISH
X-WR-CALNAME:Stefan Brattfeldt
X-ORIGINAL-URL:https://brattfeldt.se
X-WR-CALDESC:Events for Stefan Brattfeldt
BEGIN:VEVENT
DTSTART;VALUE=DATE:20201006
DTEND;VALUE=DATE:20201006
DTSTAMP:20260426T024346
CREATED:20200709T084124Z
LAST-MODIFIED:20200709T084124Z
UID:1615-1601942400-1602028799@brattfeldt.se
SUMMARY:Medarbetarutbildning Örnsköldsvik
DESCRIPTION:
URL:https://brattfeldt.se/uppdrag/medarbetarutbildning-ornskoldsvik/
END:VEVENT
END:VCALENDAR