BEGIN:VCALENDAR
VERSION:2.0
PRODID:-//Stefan Brattfeldt - ECPv4.4.5//NONSGML v1.0//EN
CALSCALE:GREGORIAN
METHOD:PUBLISH
X-WR-CALNAME:Stefan Brattfeldt
X-ORIGINAL-URL:https://brattfeldt.se
X-WR-CALDESC:Events for Stefan Brattfeldt
BEGIN:VEVENT
DTSTART;VALUE=DATE:20201008
DTEND;VALUE=DATE:20201008
DTSTAMP:20260426T041227
CREATED:20200709T084203Z
LAST-MODIFIED:20200709T084203Z
UID:1617-1602115200-1602201599@brattfeldt.se
SUMMARY:Medarbetarutbildning Örnsköldsvik
DESCRIPTION:
URL:https://brattfeldt.se/uppdrag/medarbetarutbildning-ornskoldsvik-2/
END:VEVENT
END:VCALENDAR