BEGIN:VCALENDAR
VERSION:2.0
PRODID:-//Stefan Brattfeldt - ECPv4.4.5//NONSGML v1.0//EN
CALSCALE:GREGORIAN
METHOD:PUBLISH
X-WR-CALNAME:Stefan Brattfeldt
X-ORIGINAL-URL:https://brattfeldt.se
X-WR-CALDESC:Events for Stefan Brattfeldt
BEGIN:VEVENT
DTSTART;TZID=UTC+1:20211208T120000
DTEND;TZID=UTC+1:20211208T170000
DTSTAMP:20260425T201535
CREATED:20210708T100554Z
LAST-MODIFIED:20210708T100554Z
UID:1732-1638964800-1638982800@brattfeldt.se
SUMMARY:Ledarskapsutbildning
DESCRIPTION:
URL:https://brattfeldt.se/uppdrag/ledarskapsutbildning-8/
END:VEVENT
END:VCALENDAR