BEGIN:VCALENDAR
VERSION:2.0
PRODID:-//Stefan Brattfeldt - ECPv4.4.5//NONSGML v1.0//EN
CALSCALE:GREGORIAN
METHOD:PUBLISH
X-WR-CALNAME:Stefan Brattfeldt
X-ORIGINAL-URL:https://brattfeldt.se
X-WR-CALDESC:Events for Stefan Brattfeldt
BEGIN:VEVENT
DTSTART;TZID=UTC+1:20211123T120000
DTEND;TZID=UTC+1:20211123T170000
DTSTAMP:20260425T202906
CREATED:20210708T100429Z
LAST-MODIFIED:20210708T100429Z
UID:1728-1637668800-1637686800@brattfeldt.se
SUMMARY:Ledarskapsutbildning
DESCRIPTION:
URL:https://brattfeldt.se/uppdrag/ledarskapsutbildning-6/
END:VEVENT
END:VCALENDAR