BEGIN:VCALENDAR
VERSION:2.0
PRODID:-//Stefan Brattfeldt - ECPv4.4.5//NONSGML v1.0//EN
CALSCALE:GREGORIAN
METHOD:PUBLISH
X-WR-CALNAME:Stefan Brattfeldt
X-ORIGINAL-URL:https://brattfeldt.se
X-WR-CALDESC:Events for Stefan Brattfeldt
BEGIN:VEVENT
DTSTART;VALUE=DATE:20221012
DTEND;VALUE=DATE:20221013
DTSTAMP:20260425T184239
CREATED:20220814T145933Z
LAST-MODIFIED:20220814T145933Z
UID:1756-1665532800-1665705599@brattfeldt.se
SUMMARY:Krisutbildning Stockholm
DESCRIPTION:
URL:https://brattfeldt.se/uppdrag/krisutbildning-stockholm-2/
END:VEVENT
END:VCALENDAR