BEGIN:VCALENDAR
VERSION:2.0
PRODID:-//Stefan Brattfeldt - ECPv4.4.5//NONSGML v1.0//EN
CALSCALE:GREGORIAN
METHOD:PUBLISH
X-WR-CALNAME:Stefan Brattfeldt
X-ORIGINAL-URL:https://brattfeldt.se
X-WR-CALDESC:Events for Stefan Brattfeldt
BEGIN:VEVENT
DTSTART;VALUE=DATE:20220823
DTEND;VALUE=DATE:20220825
DTSTAMP:20260425T183907
CREATED:20220814T145609Z
LAST-MODIFIED:20220814T145609Z
UID:1748-1661212800-1661471999@brattfeldt.se
SUMMARY:Krisutbildning Sandö
DESCRIPTION:
URL:https://brattfeldt.se/uppdrag/krisutbildning-sando-5/
END:VEVENT
END:VCALENDAR