BEGIN:VCALENDAR
VERSION:2.0
PRODID:-//Stefan Brattfeldt - ECPv4.4.5//NONSGML v1.0//EN
CALSCALE:GREGORIAN
METHOD:PUBLISH
X-WR-CALNAME:Stefan Brattfeldt
X-ORIGINAL-URL:https://brattfeldt.se
X-WR-CALDESC:Events for Stefan Brattfeldt
BEGIN:VEVENT
DTSTART;VALUE=DATE:20200818
DTEND;VALUE=DATE:20200820
DTSTAMP:20260426T040946
CREATED:20200709T083539Z
LAST-MODIFIED:20200709T083539Z
UID:1607-1597708800-1597967999@brattfeldt.se
SUMMARY:Krisutbildning Sandö
DESCRIPTION:
URL:https://brattfeldt.se/uppdrag/krisutbildning-sando-4/
END:VEVENT
END:VCALENDAR