BEGIN:VCALENDAR
VERSION:2.0
PRODID:-//Stefan Brattfeldt - ECPv4.4.5//NONSGML v1.0//EN
CALSCALE:GREGORIAN
METHOD:PUBLISH
X-WR-CALNAME:Stefan Brattfeldt
X-ORIGINAL-URL:https://brattfeldt.se
X-WR-CALDESC:Events for Stefan Brattfeldt
BEGIN:VEVENT
DTSTART;TZID=UTC+1:20211004T120000
DTEND;TZID=UTC+1:20211004T170000
DTSTAMP:20260425T221731
CREATED:20210416T102228Z
LAST-MODIFIED:20210416T102228Z
UID:1689-1633348800-1633366800@brattfeldt.se
SUMMARY:Krisutbildning
DESCRIPTION:
URL:https://brattfeldt.se/uppdrag/krisutbildning-8/
END:VEVENT
END:VCALENDAR