BEGIN:VCALENDAR
VERSION:2.0
PRODID:-//Stefan Brattfeldt - ECPv4.4.5//NONSGML v1.0//EN
CALSCALE:GREGORIAN
METHOD:PUBLISH
X-WR-CALNAME:Stefan Brattfeldt
X-ORIGINAL-URL:https://brattfeldt.se
X-WR-CALDESC:Events for Stefan Brattfeldt
BEGIN:VEVENT
DTSTART;TZID=UTC+1:20210920T120000
DTEND;TZID=UTC+1:20210920T170000
DTSTAMP:20260425T232702
CREATED:20210416T102116Z
LAST-MODIFIED:20210416T102116Z
UID:1685-1632139200-1632157200@brattfeldt.se
SUMMARY:Krisutbildning
DESCRIPTION:
URL:https://brattfeldt.se/uppdrag/krisutbildning-6/
END:VEVENT
END:VCALENDAR