BEGIN:VCALENDAR
VERSION:2.0
PRODID:-//Stefan Brattfeldt - ECPv4.4.5//NONSGML v1.0//EN
CALSCALE:GREGORIAN
METHOD:PUBLISH
X-WR-CALNAME:Stefan Brattfeldt
X-ORIGINAL-URL:https://brattfeldt.se
X-WR-CALDESC:Events for Stefan Brattfeldt
BEGIN:VEVENT
DTSTART;TZID=UTC+1:20210917T080000
DTEND;TZID=UTC+1:20210917T120000
DTSTAMP:20260425T232548
CREATED:20210416T102033Z
LAST-MODIFIED:20210416T102033Z
UID:1683-1631865600-1631880000@brattfeldt.se
SUMMARY:Krisutbildning
DESCRIPTION:
URL:https://brattfeldt.se/uppdrag/krisutbildning-5/
END:VEVENT
END:VCALENDAR