BEGIN:VCALENDAR
VERSION:2.0
PRODID:-//Stefan Brattfeldt - ECPv4.4.5//NONSGML v1.0//EN
CALSCALE:GREGORIAN
METHOD:PUBLISH
X-WR-CALNAME:Stefan Brattfeldt
X-ORIGINAL-URL:https://brattfeldt.se
X-WR-CALDESC:Events for Stefan Brattfeldt
BEGIN:VEVENT
DTSTART;TZID=UTC+1:20211114T080000
DTEND;TZID=UTC+1:20211114T120000
DTSTAMP:20260425T203028
CREATED:20210708T100353Z
LAST-MODIFIED:20210708T100353Z
UID:1726-1636876800-1636891200@brattfeldt.se
SUMMARY:Krisutbildning
DESCRIPTION:
URL:https://brattfeldt.se/uppdrag/krisutbildning-20/
END:VEVENT
END:VCALENDAR