BEGIN:VCALENDAR
VERSION:2.0
PRODID:-//Stefan Brattfeldt - ECPv4.4.5//NONSGML v1.0//EN
CALSCALE:GREGORIAN
METHOD:PUBLISH
X-WR-CALNAME:Stefan Brattfeldt
X-ORIGINAL-URL:https://brattfeldt.se
X-WR-CALDESC:Events for Stefan Brattfeldt
BEGIN:VEVENT
DTSTART;TZID=UTC+1:20211111T120000
DTEND;TZID=UTC+1:20211111T170000
DTSTAMP:20260425T215644
CREATED:20210708T100313Z
LAST-MODIFIED:20210708T100313Z
UID:1724-1636632000-1636650000@brattfeldt.se
SUMMARY:Krisutbildning
DESCRIPTION:
URL:https://brattfeldt.se/uppdrag/krisutbildning-19/
END:VEVENT
END:VCALENDAR