BEGIN:VCALENDAR
VERSION:2.0
PRODID:-//Stefan Brattfeldt - ECPv4.4.5//NONSGML v1.0//EN
CALSCALE:GREGORIAN
METHOD:PUBLISH
X-WR-CALNAME:Stefan Brattfeldt
X-ORIGINAL-URL:https://brattfeldt.se
X-WR-CALDESC:Events for Stefan Brattfeldt
BEGIN:VEVENT
DTSTART;TZID=UTC+1:20211025T120000
DTEND;TZID=UTC+1:20211025T170000
DTSTAMP:20260425T220628
CREATED:20210708T095938Z
LAST-MODIFIED:20210708T095938Z
UID:1714-1635163200-1635181200@brattfeldt.se
SUMMARY:Krisutbildning
DESCRIPTION:
URL:https://brattfeldt.se/uppdrag/krisutbildning-18/
END:VEVENT
END:VCALENDAR