BEGIN:VCALENDAR
VERSION:2.0
PRODID:-//Stefan Brattfeldt - ECPv4.4.5//NONSGML v1.0//EN
CALSCALE:GREGORIAN
METHOD:PUBLISH
X-WR-CALNAME:Stefan Brattfeldt
X-ORIGINAL-URL:https://brattfeldt.se
X-WR-CALDESC:Events for Stefan Brattfeldt
BEGIN:VEVENT
DTSTART;TZID=UTC+1:20211125T120000
DTEND;TZID=UTC+1:20211125T170000
DTSTAMP:20260425T202935
CREATED:20210416T102758Z
LAST-MODIFIED:20210416T102758Z
UID:1707-1637841600-1637859600@brattfeldt.se
SUMMARY:Krisutbildning
DESCRIPTION:
URL:https://brattfeldt.se/uppdrag/krisutbildning-17/
END:VEVENT
END:VCALENDAR