BEGIN:VCALENDAR
VERSION:2.0
PRODID:-//Stefan Brattfeldt - ECPv4.4.5//NONSGML v1.0//EN
CALSCALE:GREGORIAN
METHOD:PUBLISH
X-WR-CALNAME:Stefan Brattfeldt
X-ORIGINAL-URL:https://brattfeldt.se
X-WR-CALDESC:Events for Stefan Brattfeldt
BEGIN:VEVENT
DTSTART;TZID=UTC+1:20211112T080000
DTEND;TZID=UTC+1:20211112T120000
DTSTAMP:20260425T203032
CREATED:20210416T102645Z
LAST-MODIFIED:20210416T102645Z
UID:1703-1636704000-1636718400@brattfeldt.se
SUMMARY:Krisutbildning
DESCRIPTION:
URL:https://brattfeldt.se/uppdrag/krisutbildning-15/
END:VEVENT
END:VCALENDAR