BEGIN:VCALENDAR
VERSION:2.0
PRODID:-//Stefan Brattfeldt - ECPv4.4.5//NONSGML v1.0//EN
CALSCALE:GREGORIAN
METHOD:PUBLISH
X-WR-CALNAME:Stefan Brattfeldt
X-ORIGINAL-URL:https://brattfeldt.se
X-WR-CALDESC:Events for Stefan Brattfeldt
BEGIN:VEVENT
DTSTART;TZID=UTC+1:20211104T120000
DTEND;TZID=UTC+1:20211104T170000
DTSTAMP:20260425T215730
CREATED:20210416T102457Z
LAST-MODIFIED:20210416T102457Z
UID:1697-1636027200-1636045200@brattfeldt.se
SUMMARY:Krisutbildning
DESCRIPTION:
URL:https://brattfeldt.se/uppdrag/krisutbildning-12/
END:VEVENT
END:VCALENDAR