BEGIN:VCALENDAR
VERSION:2.0
PRODID:-//Stefan Brattfeldt - ECPv4.4.5//NONSGML v1.0//EN
CALSCALE:GREGORIAN
METHOD:PUBLISH
X-WR-CALNAME:Stefan Brattfeldt
X-ORIGINAL-URL:https://brattfeldt.se
X-WR-CALDESC:Events for Stefan Brattfeldt
BEGIN:VEVENT
DTSTART;TZID=UTC+1:20211101T080000
DTEND;TZID=UTC+1:20211101T120000
DTSTAMP:20260425T221307
CREATED:20210416T102422Z
LAST-MODIFIED:20210416T102422Z
UID:1695-1635753600-1635768000@brattfeldt.se
SUMMARY:Krisutbildning
DESCRIPTION:
URL:https://brattfeldt.se/uppdrag/krisutbildning-11/
END:VEVENT
END:VCALENDAR