BEGIN:VCALENDAR
VERSION:2.0
PRODID:-//Stefan Brattfeldt - ECPv4.4.5//NONSGML v1.0//EN
CALSCALE:GREGORIAN
METHOD:PUBLISH
X-WR-CALNAME:Stefan Brattfeldt
X-ORIGINAL-URL:https://brattfeldt.se
X-WR-CALDESC:Events for Stefan Brattfeldt
BEGIN:VEVENT
DTSTART;TZID=UTC+1:20210823T120000
DTEND;TZID=UTC+1:20210823T170000
DTSTAMP:20260425T232501
CREATED:20210708T095731Z
LAST-MODIFIED:20210708T095731Z
UID:1710-1629720000-1629738000@brattfeldt.se
SUMMARY:Konflikthantering
DESCRIPTION:
URL:https://brattfeldt.se/uppdrag/konflikthantering-4/
END:VEVENT
END:VCALENDAR