BEGIN:VCALENDAR
VERSION:2.0
PRODID:-//Stefan Brattfeldt - ECPv4.4.5//NONSGML v1.0//EN
CALSCALE:GREGORIAN
METHOD:PUBLISH
X-WR-CALNAME:Stefan Brattfeldt
X-ORIGINAL-URL:https://brattfeldt.se
X-WR-CALDESC:Events for Stefan Brattfeldt
BEGIN:VEVENT
DTSTART;TZID=UTC+1:20210430T080000
DTEND;TZID=UTC+1:20210430T120000
DTSTAMP:20260426T005650
CREATED:20210416T100634Z
LAST-MODIFIED:20210416T100634Z
UID:1669-1619769600-1619784000@brattfeldt.se
SUMMARY:Handledning
DESCRIPTION:
URL:https://brattfeldt.se/uppdrag/handledning/
END:VEVENT
END:VCALENDAR