BEGIN:VCALENDAR
VERSION:2.0
PRODID:-//Stefan Brattfeldt - ECPv4.4.5//NONSGML v1.0//EN
CALSCALE:GREGORIAN
METHOD:PUBLISH
X-WR-CALNAME:Stefan Brattfeldt
X-ORIGINAL-URL:https://brattfeldt.se
X-WR-CALDESC:Events for Stefan Brattfeldt
BEGIN:VEVENT
DTSTART;VALUE=DATE:20210503
DTEND;VALUE=DATE:20210503
DTSTAMP:20260425T232754
CREATED:20210416T100826Z
LAST-MODIFIED:20210416T100826Z
UID:1675-1620000000-1620086399@brattfeldt.se
SUMMARY:Grupputveckling
DESCRIPTION:
URL:https://brattfeldt.se/uppdrag/grupputveckling-4/
END:VEVENT
END:VCALENDAR