BEGIN:VCALENDAR
VERSION:2.0
PRODID:-//Stefan Brattfeldt - ECPv4.4.5//NONSGML v1.0//EN
CALSCALE:GREGORIAN
METHOD:PUBLISH
X-WR-CALNAME:Stefan Brattfeldt
X-ORIGINAL-URL:https://brattfeldt.se
X-WR-CALDESC:Events for Stefan Brattfeldt
BEGIN:VEVENT
DTSTART;TZID=UTC+1:20210419T130000
DTEND;TZID=UTC+1:20210419T170000
DTSTAMP:20260426T005957
CREATED:20210416T100539Z
LAST-MODIFIED:20210416T100539Z
UID:1667-1618837200-1618851600@brattfeldt.se
SUMMARY:Grupputveckling
DESCRIPTION:
URL:https://brattfeldt.se/uppdrag/grupputveckling-2/
END:VEVENT
END:VCALENDAR