BEGIN:VCALENDAR
VERSION:2.0
PRODID:-//Stefan Brattfeldt - ECPv4.4.5//NONSGML v1.0//EN
CALSCALE:GREGORIAN
METHOD:PUBLISH
X-WR-CALNAME:Stefan Brattfeldt
X-ORIGINAL-URL:https://brattfeldt.se
X-WR-CALDESC:Events for Stefan Brattfeldt
BEGIN:VEVENT
DTSTART;VALUE=DATE:20200908
DTEND;VALUE=DATE:20200908
DTSTAMP:20260426T041008
CREATED:20200709T084046Z
LAST-MODIFIED:20200709T084046Z
UID:1613-1599523200-1599609599@brattfeldt.se
SUMMARY:Chefsutbildning Sundsvall
DESCRIPTION:
URL:https://brattfeldt.se/uppdrag/chefsutbildning-sundsvall/
END:VEVENT
END:VCALENDAR