BEGIN:VCALENDAR
VERSION:2.0
PRODID:-//Stefan Brattfeldt - ECPv4.4.5//NONSGML v1.0//EN
CALSCALE:GREGORIAN
METHOD:PUBLISH
X-WR-CALNAME:Stefan Brattfeldt
X-ORIGINAL-URL:https://brattfeldt.se
X-WR-CALDESC:Events for Stefan Brattfeldt
BEGIN:VEVENT
DTSTART;VALUE=DATE:20201013
DTEND;VALUE=DATE:20201013
DTSTAMP:20260426T024216
CREATED:20200709T084251Z
LAST-MODIFIED:20200709T084251Z
UID:1620-1602547200-1602633599@brattfeldt.se
SUMMARY:Chefsutbildning Sundsvall
DESCRIPTION:
URL:https://brattfeldt.se/uppdrag/chefsutbildning-sundsvall-2/
END:VEVENT
END:VCALENDAR