BEGIN:VCALENDAR
VERSION:2.0
PRODID:-//Stefan Brattfeldt - ECPv4.4.5//NONSGML v1.0//EN
CALSCALE:GREGORIAN
METHOD:PUBLISH
X-WR-CALNAME:Stefan Brattfeldt
X-ORIGINAL-URL:https://brattfeldt.se
X-WR-CALDESC:Events for Stefan Brattfeldt
BEGIN:VEVENT
DTSTART;VALUE=DATE:20220920
DTEND;VALUE=DATE:20220921
DTSTAMP:20260425T200958
CREATED:20220814T145756Z
LAST-MODIFIED:20220814T145756Z
UID:1752-1663632000-1663804799@brattfeldt.se
SUMMARY:Chefsutbildning Kalix
DESCRIPTION:
URL:https://brattfeldt.se/uppdrag/chefsutbildning-kalix/
END:VEVENT
END:VCALENDAR