BEGIN:VCALENDAR
VERSION:2.0
PRODID:-//Stefan Brattfeldt - ECPv4.4.5//NONSGML v1.0//EN
CALSCALE:GREGORIAN
METHOD:PUBLISH
X-WR-CALNAME:Stefan Brattfeldt
X-ORIGINAL-URL:https://brattfeldt.se
X-WR-CALDESC:Events for Stefan Brattfeldt
BEGIN:VEVENT
DTSTART;VALUE=DATE:20200929
DTEND;VALUE=DATE:20200929
DTSTAMP:20260426T040937
CREATED:20200827T090231Z
LAST-MODIFIED:20200827T090231Z
UID:1643-1601337600-1601423999@brattfeldt.se
SUMMARY:Chefshandledning webb
DESCRIPTION:
URL:https://brattfeldt.se/uppdrag/chefshandledning-webb/
END:VEVENT
END:VCALENDAR