BEGIN:VCALENDAR
VERSION:2.0
PRODID:-//Stefan Brattfeldt - ECPv4.4.5//NONSGML v1.0//EN
CALSCALE:GREGORIAN
METHOD:PUBLISH
X-WR-CALNAME:Stefan Brattfeldt
X-ORIGINAL-URL:https://brattfeldt.se
X-WR-CALDESC:Events for Stefan Brattfeldt
BEGIN:VEVENT
DTSTART;VALUE=DATE:20200813
DTEND;VALUE=DATE:20200813
DTSTAMP:20260426T041100
CREATED:20200709T083422Z
LAST-MODIFIED:20200709T083422Z
UID:1603-1597276800-1597363199@brattfeldt.se
SUMMARY:Chefshandledning Härnösand
DESCRIPTION:
URL:https://brattfeldt.se/uppdrag/chefshandledning-harnosand-2/
END:VEVENT
END:VCALENDAR