BEGIN:VCALENDAR
VERSION:2.0
PRODID:-//Stefan Brattfeldt - ECPv4.4.5//NONSGML v1.0//EN
CALSCALE:GREGORIAN
METHOD:PUBLISH
X-WR-CALNAME:Stefan Brattfeldt
X-ORIGINAL-URL:https://brattfeldt.se
X-WR-CALDESC:Events for Stefan Brattfeldt
BEGIN:VEVENT
DTSTART;VALUE=DATE:20210120
DTEND;VALUE=DATE:20210120
DTSTAMP:20260426T024104
CREATED:20210118T191207Z
LAST-MODIFIED:20210118T191207Z
UID:1650-1611100800-1611187199@brattfeldt.se
SUMMARY:Chefshandledning digitalt
DESCRIPTION:
URL:https://brattfeldt.se/uppdrag/chefshandledning-digitalt/
END:VEVENT
END:VCALENDAR